BEGIN:VCALENDAR
VERSION:2.0
PRODID:-//Family Community Clinic - ECPv6.15.20//NONSGML v1.0//EN
CALSCALE:GREGORIAN
METHOD:PUBLISH
X-ORIGINAL-URL:https://famcomclinic.org
X-WR-CALDESC:Events for Family Community Clinic
REFRESH-INTERVAL;VALUE=DURATION:PT1H
X-Robots-Tag:noindex
X-PUBLISHED-TTL:PT1H
BEGIN:VTIMEZONE
TZID:America/Phoenix
BEGIN:STANDARD
TZOFFSETFROM:-0700
TZOFFSETTO:-0700
TZNAME:MST
DTSTART:20230101T000000
END:STANDARD
END:VTIMEZONE
BEGIN:VEVENT
DTSTART;VALUE=DATE:20260127
DTEND;VALUE=DATE:20260128
DTSTAMP:20260424T085342
CREATED:20260127T130026Z
LAST-MODIFIED:20260127T130026Z
UID:4024-1769472000-1769558399@famcomclinic.org
SUMMARY:FCC Clinic Closed/ CFC Clínica Cerrada
DESCRIPTION:FCC closed due to the weather. CFC Clínica cerrada debido al clima
URL:https://famcomclinic.org/event/fcc-clinic-closed-cfc-clinica-cerrada-3/
END:VEVENT
BEGIN:VEVENT
DTSTART;VALUE=DATE:20260126
DTEND;VALUE=DATE:20260127
DTSTAMP:20260424T085342
CREATED:20260125T212420Z
LAST-MODIFIED:20260125T212420Z
UID:4021-1769385600-1769471999@famcomclinic.org
SUMMARY:FCC Clinic Closed/ CFC Clínica Cerrada
DESCRIPTION:FCC closed due to the weather. CFC Clínica cerrada debido al clima
URL:https://famcomclinic.org/event/fcc-clinic-closed-cfc-clinica-cerrada-2/
END:VEVENT
BEGIN:VEVENT
DTSTART;VALUE=DATE:20251222
DTEND;VALUE=DATE:20260101
DTSTAMP:20260424T085342
CREATED:20250123T204550Z
LAST-MODIFIED:20250123T204926Z
UID:3776-1766361600-1767225599@famcomclinic.org
SUMMARY:FCC Closed For Holidays/ CFC Clínica Cerrada
DESCRIPTION:Family Community Clinic is Closed for the Holidays.
URL:https://famcomclinic.org/event/fcc-testing-closed/
END:VEVENT
BEGIN:VEVENT
DTSTART;VALUE=DATE:20251212
DTEND;VALUE=DATE:20251213
DTSTAMP:20260424T085342
CREATED:20251212T051945Z
LAST-MODIFIED:20251212T051945Z
UID:3993-1765497600-1765583999@famcomclinic.org
SUMMARY:FCC Clinic Closed/ CFC Clínica Cerrada
DESCRIPTION:FCC closed due to the weather. CFC Clínica cerrada debido al clima
URL:https://famcomclinic.org/event/fcc-clinic-closed-cfc-clinica-cerrada/
END:VEVENT
BEGIN:VEVENT
DTSTART;VALUE=DATE:20251202
DTEND;VALUE=DATE:20251203
DTSTAMP:20260424T085342
CREATED:20250128T143440Z
LAST-MODIFIED:20251202T150606Z
UID:3797-1764633600-1764719999@famcomclinic.org
SUMMARY:Giving Tuesday/ Dar martes / Clinic Opens at 1PM/ La clínica abre a la 1 p.m.
DESCRIPTION:Giving Tuesday Clinic Fundraiser/ Dar Martes Recaudación de fondos de la clínica\nDue to the weather the clinic will open at 1PM. Debido al clima la clínica abrirá a la 1:00 p.m.
URL:https://famcomclinic.org/event/giving-tuesday-dar-martes/
END:VEVENT
BEGIN:VEVENT
DTSTART;VALUE=DATE:20251126
DTEND;VALUE=DATE:20251129
DTSTAMP:20260424T085342
CREATED:20250128T143158Z
LAST-MODIFIED:20250128T143635Z
UID:3795-1764115200-1764374399@famcomclinic.org
SUMMARY:FCC Clinic Closure / CFC Clínica Cerrada
DESCRIPTION:Thanksgiving Break
URL:https://famcomclinic.org/event/fcc-clinic-closure-cfc-clinica-cerrada/
END:VEVENT
BEGIN:VEVENT
DTSTART;VALUE=DATE:20250918
DTEND;VALUE=DATE:20250919
DTSTAMP:20260424T085342
CREATED:20250128T142949Z
LAST-MODIFIED:20250128T143037Z
UID:3793-1758153600-1758239999@famcomclinic.org
SUMMARY:GFCL Clinic Fundraiser/Recaudación de fondos de la clínica
DESCRIPTION:Give for Good Louisville Clinic Fundraiser/ Recaudación de fondos de la clínica
URL:https://famcomclinic.org/event/gfcl-clinic-fundraiser-recaudacion-de-fondos-de-la-clinica/
END:VEVENT
BEGIN:VEVENT
DTSTART;VALUE=DATE:20250901
DTEND;VALUE=DATE:20250902
DTSTAMP:20260424T085342
CREATED:20250123T155016Z
LAST-MODIFIED:20250128T141910Z
UID:3767-1756684800-1756771199@famcomclinic.org
SUMMARY:FCC Clinic Closure / CFC Clínica Cerrada
DESCRIPTION:Labor Day/ Día laboral
URL:https://famcomclinic.org/event/kentucky-oaks-day-2/
END:VEVENT
BEGIN:VEVENT
DTSTART;VALUE=DATE:20250704
DTEND;VALUE=DATE:20250705
DTSTAMP:20260424T085342
CREATED:20250115T172629Z
LAST-MODIFIED:20250128T141438Z
UID:3748-1751587200-1751673599@famcomclinic.org
SUMMARY:FCC Clinic Closure / CFC Clínica Cerrada
DESCRIPTION:Independence Day /Día de la independencia
URL:https://famcomclinic.org/event/independence-day/
END:VEVENT
BEGIN:VEVENT
DTSTART;VALUE=DATE:20250619
DTEND;VALUE=DATE:20250620
DTSTAMP:20260424T085342
CREATED:20250115T172525Z
LAST-MODIFIED:20250128T141342Z
UID:3746-1750291200-1750377599@famcomclinic.org
SUMMARY:FCC Clinic Closure / CFC Clínica Cerrada
DESCRIPTION:Juneteenth
URL:https://famcomclinic.org/event/juneteenth/
END:VEVENT
BEGIN:VEVENT
DTSTART;VALUE=DATE:20250526
DTEND;VALUE=DATE:20250527
DTSTAMP:20260424T085342
CREATED:20250115T172350Z
LAST-MODIFIED:20250128T141035Z
UID:3743-1748217600-1748303999@famcomclinic.org
SUMMARY:FCC Clinic Closure / CFC Clínica Cerrada
DESCRIPTION:Memorial Day/Día Conmemorativo
URL:https://famcomclinic.org/event/memorial-day/
END:VEVENT
BEGIN:VEVENT
DTSTART;VALUE=DATE:20250502
DTEND;VALUE=DATE:20250503
DTSTAMP:20260424T085342
CREATED:20250115T172300Z
LAST-MODIFIED:20250128T141228Z
UID:3741-1746144000-1746230399@famcomclinic.org
SUMMARY:FCC Clinic Closed / CFC Clínica Cerrada
DESCRIPTION:Kentucky Oaks Day
URL:https://famcomclinic.org/event/kentucky-oaks-day/
END:VEVENT
BEGIN:VEVENT
DTSTART;VALUE=DATE:20250425
DTEND;VALUE=DATE:20250426
DTSTAMP:20260424T085342
CREATED:20250123T154721Z
LAST-MODIFIED:20250207T154350Z
UID:3765-1745539200-1745625599@famcomclinic.org
SUMMARY:FCC Clinic Closure / CFC Clínica Cerrada
DESCRIPTION:Derby Marathon Street Closure/ Cierre de la calle por Derby Marathon
URL:https://famcomclinic.org/event/derby-marathon-street-closure-cierre-de-la-calle-por-derby-marathon/
END:VEVENT
BEGIN:VEVENT
DTSTART;VALUE=DATE:20250418
DTEND;VALUE=DATE:20250419
DTSTAMP:20260424T085342
CREATED:20250123T154432Z
LAST-MODIFIED:20250128T141126Z
UID:3759-1744934400-1745020799@famcomclinic.org
SUMMARY:FCC Clinic Closed / CFC Clínica Cerrada
DESCRIPTION:Good Friday/Viernes Santo
URL:https://famcomclinic.org/event/good-friday-viernes-santo/
END:VEVENT
BEGIN:VEVENT
DTSTART;VALUE=DATE:20250220
DTEND;VALUE=DATE:20250221
DTSTAMP:20260424T085342
CREATED:20250220T125511Z
LAST-MODIFIED:20250220T160952Z
UID:3853-1740009600-1740095999@famcomclinic.org
SUMMARY:FCC Delay: Opening at 1PM/ CFC Retraso: Apertura a la 1PM
DESCRIPTION:Delay due to weather
URL:https://famcomclinic.org/event/fcc-delay-opening-at-1pm-cfc-retraso-apertura-a-la-1pm/
END:VEVENT
BEGIN:VEVENT
DTSTART;VALUE=DATE:20250219
DTEND;VALUE=DATE:20250220
DTSTAMP:20260424T085342
CREATED:20250219T104328Z
LAST-MODIFIED:20250220T160618Z
UID:3850-1739923200-1740009599@famcomclinic.org
SUMMARY:FCC Closed/ CFC Clinica Cerrada
DESCRIPTION:Weather
URL:https://famcomclinic.org/event/fcc-closed-cfc-clinica-cerrada/
END:VEVENT
BEGIN:VEVENT
DTSTART;VALUE=DATE:20250120
DTEND;VALUE=DATE:20250121
DTSTAMP:20260424T085342
CREATED:20250115T165723Z
LAST-MODIFIED:20250123T153934Z
UID:3730-1737331200-1737417599@famcomclinic.org
SUMMARY:Martin Luther King Jr. Day
DESCRIPTION:Clinic Closed/Clínica Cerrada
URL:https://famcomclinic.org/event/clinic-anniversary/
END:VEVENT
BEGIN:VEVENT
DTSTART;VALUE=DATE:20250115
DTEND;VALUE=DATE:20250116
DTSTAMP:20260424T085342
CREATED:20250115T165921Z
LAST-MODIFIED:20250123T154128Z
UID:3733-1736899200-1736985599@famcomclinic.org
SUMMARY:Clinic Anniversary/Aniversario de la clínica
DESCRIPTION:14th Anniversary/14º Aniversario
URL:https://famcomclinic.org/event/clinic-anniversary-2/
END:VEVENT
BEGIN:VEVENT
DTSTART;VALUE=DATE:20250106
DTEND;VALUE=DATE:20250111
DTSTAMP:20260424T085342
CREATED:20250123T153252Z
LAST-MODIFIED:20250123T153252Z
UID:3754-1736121600-1736553599@famcomclinic.org
SUMMARY:Weather Related Clinic Closure/Cierre de la clínica por el clima
DESCRIPTION:
URL:https://famcomclinic.org/event/weather-related-clinic-closure-cierre-de-la-clinica-por-el-clima/
END:VEVENT
BEGIN:VEVENT
DTSTART;VALUE=DATE:20250101
DTEND;VALUE=DATE:20250104
DTSTAMP:20260424T085342
CREATED:20240626T173214Z
LAST-MODIFIED:20250123T153751Z
UID:3553-1735689600-1735948799@famcomclinic.org
SUMMARY:January 1st- January 3rd
DESCRIPTION:Clinic Closed/ Clínica Cerrada
URL:https://famcomclinic.org/event/january-1st-clinic-closed/
END:VEVENT
BEGIN:VEVENT
DTSTART;TZID=America/Phoenix:20241223T080000
DTEND;TZID=America/Phoenix:20250103T170000
DTSTAMP:20260424T085342
CREATED:20240717T131851Z
LAST-MODIFIED:20240717T131851Z
UID:3600-1734940800-1735923600@famcomclinic.org
SUMMARY:Clinic Closed for Holidays
DESCRIPTION:
URL:https://famcomclinic.org/event/clinic-closed-for-holidays/
END:VEVENT
BEGIN:VEVENT
DTSTART;VALUE=DATE:20241203
DTEND;VALUE=DATE:20241204
DTSTAMP:20260424T085342
CREATED:20240626T173133Z
LAST-MODIFIED:20240626T173133Z
UID:3550-1733184000-1733270399@famcomclinic.org
SUMMARY:Giving Tuesday
DESCRIPTION:
URL:https://famcomclinic.org/event/giving-tuesday/
END:VEVENT
BEGIN:VEVENT
DTSTART;VALUE=DATE:20241127
DTEND;VALUE=DATE:20241130
DTSTAMP:20260424T085342
CREATED:20240626T173103Z
LAST-MODIFIED:20240626T173103Z
UID:3548-1732665600-1732924799@famcomclinic.org
SUMMARY:Thanksgiving Weekend (Clinic Closed)
DESCRIPTION:
URL:https://famcomclinic.org/event/thanksgiving-weekend-clinic-closed/
END:VEVENT
BEGIN:VEVENT
DTSTART;VALUE=DATE:20241113
DTEND;VALUE=DATE:20241114
DTSTAMP:20260424T085342
CREATED:20240626T173019Z
LAST-MODIFIED:20240826T153532Z
UID:3546-1731456000-1731542399@famcomclinic.org
SUMMARY:Founder’s Day Luncheon
DESCRIPTION:
URL:https://famcomclinic.org/event/founders-day-luncheon/
END:VEVENT
BEGIN:VEVENT
DTSTART;VALUE=DATE:20241031
DTEND;VALUE=DATE:20241101
DTSTAMP:20260424T085342
CREATED:20240626T172951Z
LAST-MODIFIED:20240626T172951Z
UID:3544-1730332800-1730419199@famcomclinic.org
SUMMARY:Halloween
DESCRIPTION:
URL:https://famcomclinic.org/event/halloween/
END:VEVENT
BEGIN:VEVENT
DTSTART;VALUE=DATE:20241021
DTEND;VALUE=DATE:20241022
DTSTAMP:20260424T085342
CREATED:20240626T172932Z
LAST-MODIFIED:20240626T172932Z
UID:3542-1729468800-1729555199@famcomclinic.org
SUMMARY:Family Community Clinic Founder’s Day
DESCRIPTION:
URL:https://famcomclinic.org/event/family-community-clinic-founders-day/
END:VEVENT
BEGIN:VEVENT
DTSTART;VALUE=DATE:20241018
DTEND;VALUE=DATE:20241019
DTSTAMP:20260424T085342
CREATED:20240626T172908Z
LAST-MODIFIED:20240626T172908Z
UID:3540-1729209600-1729295999@famcomclinic.org
SUMMARY:3rd Annual Volunteer Luncheon
DESCRIPTION:
URL:https://famcomclinic.org/event/3rd-annual-volunteer-luncheon/
END:VEVENT
BEGIN:VEVENT
DTSTART;VALUE=DATE:20240912
DTEND;VALUE=DATE:20240913
DTSTAMP:20260424T085342
CREATED:20240626T172836Z
LAST-MODIFIED:20240626T172836Z
UID:3538-1726099200-1726185599@famcomclinic.org
SUMMARY:Give for Good Giving Day
DESCRIPTION:
URL:https://famcomclinic.org/event/give-for-good-giving-day/
END:VEVENT
BEGIN:VEVENT
DTSTART;VALUE=DATE:20240902
DTEND;VALUE=DATE:20240903
DTSTAMP:20260424T085342
CREATED:20240626T172738Z
LAST-MODIFIED:20240626T172818Z
UID:3536-1725235200-1725321599@famcomclinic.org
SUMMARY:Labor Day (Clinic Closed)
DESCRIPTION:
URL:https://famcomclinic.org/event/labor-day-clinic-closed/
END:VEVENT
BEGIN:VEVENT
DTSTART;VALUE=DATE:20240807
DTEND;VALUE=DATE:20240808
DTSTAMP:20260424T085342
CREATED:20240626T172636Z
LAST-MODIFIED:20240626T172636Z
UID:3533-1722988800-1723075199@famcomclinic.org
SUMMARY:JCPS First Day of School
DESCRIPTION:
URL:https://famcomclinic.org/event/jcps-first-day-of-school/
END:VEVENT
END:VCALENDAR